BEGIN:VCALENDAR
VERSION:2.0
PRODID:-//Musikzug der Freiw. Feuerwehr Stuttgart, Abt. Wangen - ECPv6.15.15//NONSGML v1.0//EN
CALSCALE:GREGORIAN
METHOD:PUBLISH
X-ORIGINAL-URL:https://www.musikzug.net
X-WR-CALDESC:Veranstaltungen für Musikzug der Freiw. Feuerwehr Stuttgart, Abt. Wangen
REFRESH-INTERVAL;VALUE=DURATION:PT1H
X-Robots-Tag:noindex
X-PUBLISHED-TTL:PT1H
BEGIN:VTIMEZONE
TZID:Europe/Berlin
BEGIN:DAYLIGHT
TZOFFSETFROM:+0100
TZOFFSETTO:+0200
TZNAME:CEST
DTSTART:20250330T010000
END:DAYLIGHT
BEGIN:STANDARD
TZOFFSETFROM:+0200
TZOFFSETTO:+0100
TZNAME:CET
DTSTART:20251026T010000
END:STANDARD
BEGIN:DAYLIGHT
TZOFFSETFROM:+0100
TZOFFSETTO:+0200
TZNAME:CEST
DTSTART:20260329T010000
END:DAYLIGHT
BEGIN:STANDARD
TZOFFSETFROM:+0200
TZOFFSETTO:+0100
TZNAME:CET
DTSTART:20261025T010000
END:STANDARD
BEGIN:DAYLIGHT
TZOFFSETFROM:+0100
TZOFFSETTO:+0200
TZNAME:CEST
DTSTART:20270328T010000
END:DAYLIGHT
BEGIN:STANDARD
TZOFFSETFROM:+0200
TZOFFSETTO:+0100
TZNAME:CET
DTSTART:20271031T010000
END:STANDARD
END:VTIMEZONE
BEGIN:VEVENT
DTSTART;VALUE=DATE:20260425
DTEND;VALUE=DATE:20260426
DTSTAMP:20260420T053931
CREATED:20260129T201640Z
LAST-MODIFIED:20260208T204711Z
UID:2481-1777075200-1777161599@www.musikzug.net
SUMMARY:Maimarkt
DESCRIPTION:
URL:https://www.musikzug.net/event/maimarkt-in-klaerung/
LOCATION:Ulmer Straße\, Ulmer Straße 334\, Stuttgart\, Baden-Württemberg\, 70327\, Deutschland
CATEGORIES:Auftritt,Musikzug
ATTACH;FMTTYPE=image/jpeg:https://www.musikzug.net/wp-content/uploads/2025/02/DSC_0782-2.jpg
END:VEVENT
BEGIN:VEVENT
DTSTART;TZID=Europe/Berlin:20260510T110000
DTEND;TZID=Europe/Berlin:20260510T130000
DTSTAMP:20260420T053931
CREATED:20260129T202225Z
LAST-MODIFIED:20260208T201705Z
UID:2483-1778410800-1778418000@www.musikzug.net
SUMMARY:Hocketse Zazenhausen
DESCRIPTION:
URL:https://www.musikzug.net/event/hocketse-zazenhausen-in-klaerung/
LOCATION:Feuerwehrmagazin Zazenhausen\,  Landsknechtstraße 3\, Stuttgart\, Baden-Württemberg\, 70437\, Deutschland
CATEGORIES:Auftritt,Musikzug
ATTACH;FMTTYPE=image/jpeg:https://www.musikzug.net/wp-content/uploads/2020/02/20190720_1515461.jpg
END:VEVENT
BEGIN:VEVENT
DTSTART;VALUE=DATE:20260511
DTEND;VALUE=DATE:20260512
DTSTAMP:20260420T053931
CREATED:20260112T191439Z
LAST-MODIFIED:20260112T191439Z
UID:2467-1778457600-1778543999@www.musikzug.net
SUMMARY:Stadtfeuerwehrverbandsversammlung
DESCRIPTION:
URL:https://www.musikzug.net/event/stadtfeuerwehrverbandsversammlung/
CATEGORIES:Auftritt,Musikzug,Versammlung
ATTACH;FMTTYPE=image/jpeg:https://www.musikzug.net/wp-content/uploads/2025/02/DSC_2691-2.jpg
ORGANIZER;CN="Stadtfeuerwehrverband Stuttgart e.V.":MAILTO:info@stadtfeuerwehrverband-stuttgart.de
END:VEVENT
BEGIN:VEVENT
DTSTART;TZID=Europe/Berlin:20260705T143000
DTEND;TZID=Europe/Berlin:20260705T163000
DTSTAMP:20260420T053931
CREATED:20260129T202906Z
LAST-MODIFIED:20260210T160947Z
UID:2485-1783261800-1783269000@www.musikzug.net
SUMMARY:Schwörfest Esslingen
DESCRIPTION:
URL:https://www.musikzug.net/event/schwoerfest-esslingen/
LOCATION:Esslingen am Neckar\, Rathausplatz 3\, Esslingen am Neckar\, 73728\, Germany
CATEGORIES:Auftritt,Musikzug
ATTACH;FMTTYPE=image/jpeg:https://www.musikzug.net/wp-content/uploads/2024/07/DSC_2196-2.jpg
ORGANIZER;CN="Kulturamt Esslingen am Neckar":MAILTO:kulturamt@esslingen.de
END:VEVENT
BEGIN:VEVENT
DTSTART;TZID=Europe/Berlin:20260802T120000
DTEND;TZID=Europe/Berlin:20260802T140000
DTSTAMP:20260420T053931
CREATED:20260129T203530Z
LAST-MODIFIED:20260129T203624Z
UID:2489-1785672000-1785679200@www.musikzug.net
SUMMARY:Tag der offenen Tür Feuerwehr Uhlbach
DESCRIPTION:
URL:https://www.musikzug.net/event/tag-der-offenen-tuer-uhlbach/
LOCATION:Feuerwehrmagazin Uhlbach\, Trollingerstraße 9\, Stuttgart\, Baden-Württemberg\, 70329\, Deutschland
CATEGORIES:Auftritt,Musikzug
ATTACH;FMTTYPE=image/jpeg:https://www.musikzug.net/wp-content/uploads/2024/05/DSC_0891-2.jpg
ORGANIZER;CN="Freiwillige Feuerwehr Stuttgart%2C Abteilung Uhlbach":MAILTO:info@feuerwehr-uhlbach.de
END:VEVENT
BEGIN:VEVENT
DTSTART;TZID=Europe/Berlin:20260830T143000
DTEND;TZID=Europe/Berlin:20260830T163000
DTSTAMP:20260420T053931
CREATED:20260129T203842Z
LAST-MODIFIED:20260208T203409Z
UID:2492-1788100200-1788107400@www.musikzug.net
SUMMARY:Hedelfinger Herbst
DESCRIPTION:
URL:https://www.musikzug.net/event/hedelfinger-herbst/
LOCATION:Hedelfinger Kelter\, Fruchtstraße 2\, Stuttgart-Hedelfingen\, Baden-Württemberg\, 70327\, Deutschland
CATEGORIES:Auftritt,Musikzug
ATTACH;FMTTYPE=image/jpeg:https://www.musikzug.net/wp-content/uploads/2024/05/DSC_0815-2.jpg
END:VEVENT
BEGIN:VEVENT
DTSTART;VALUE=DATE:20260918
DTEND;VALUE=DATE:20260919
DTSTAMP:20260420T053931
CREATED:20260129T204524Z
LAST-MODIFIED:20260129T204524Z
UID:2494-1789689600-1789775999@www.musikzug.net
SUMMARY:Blaulichttag Augustinum Sillenbuch
DESCRIPTION:
URL:https://www.musikzug.net/event/blaulichttag-augustinum-sillenbuch/
LOCATION:Augustinum Stuttgart-Sillenbuch\, Florentiner Str. 20\, Stuttgart\, 70619\, Germany
CATEGORIES:Auftritt,Musikzug
ATTACH;FMTTYPE=image/jpeg:https://www.musikzug.net/wp-content/uploads/2024/04/02-Musikzug-5-1.jpg
ORGANIZER;CN="Augustinum gemeinn%C3%BCtzige GmbH":MAILTO:sekretariat@augustinum.de
END:VEVENT
BEGIN:VEVENT
DTSTART;VALUE=DATE:20261023
DTEND;VALUE=DATE:20261024
DTSTAMP:20260420T053931
CREATED:20260112T191738Z
LAST-MODIFIED:20260112T191738Z
UID:2472-1792713600-1792799999@www.musikzug.net
SUMMARY:Wein trifft Blasmusik
DESCRIPTION:
URL:https://www.musikzug.net/event/wein-trifft-blasmusik/
LOCATION:Wangener Kelter\, Ulmer Straße 334\, Stuttgart\, Baden-Württemberg\, 70327\, Germany
CATEGORIES:Auftritt,Musikzug
ATTACH;FMTTYPE=image/jpeg:https://www.musikzug.net/wp-content/uploads/2022/04/20220409-Fruehjahrskonzert-2022-3.jpg
ORGANIZER;CN="Musikzug der Freiw. Feuerwehr Stuttgart%2C Abt. Wangen":MAILTO:uwe.dalferth@musikzug.net
END:VEVENT
BEGIN:VEVENT
DTSTART;TZID=Europe/Berlin:20261115T110000
DTEND;TZID=Europe/Berlin:20261115T120000
DTSTAMP:20260420T053931
CREATED:20260112T192055Z
LAST-MODIFIED:20260208T203823Z
UID:2475-1794740400-1794744000@www.musikzug.net
SUMMARY:Volkstrauertag
DESCRIPTION:
URL:https://www.musikzug.net/event/volkstrauertag/
LOCATION:Michaelskirche Wangen\, Im Kirchweinberg 1\, Stuttgart-Wangen\, Baden-Württemberg\, 70327\, Deutschland
CATEGORIES:Auftritt,Musikzug
ATTACH;FMTTYPE=image/jpeg:https://www.musikzug.net/wp-content/uploads/2025/02/DSC_3147-2.jpg
END:VEVENT
BEGIN:VEVENT
DTSTART;TZID=Europe/Berlin:20261223T190000
DTEND;TZID=Europe/Berlin:20261223T210000
DTSTAMP:20260420T053931
CREATED:20260111T215655Z
LAST-MODIFIED:20260111T215655Z
UID:2465-1798052400-1798059600@www.musikzug.net
SUMMARY:Weihnachtslieder unterm Tannenbaum
DESCRIPTION:
URL:https://www.musikzug.net/event/weihnachtslieder-unterm-tannenbaum-2/
LOCATION:Wangener Kelter\, Ulmer Straße 334\, Stuttgart\, Baden-Württemberg\, 70327\, Germany
CATEGORIES:Konzert,Musikzug
ATTACH;FMTTYPE=image/jpeg:https://www.musikzug.net/wp-content/uploads/2024/12/hut-snowy-field-with-rocky-mountains-forest.jpg
ORGANIZER;CN="Musikzug der Freiw. Feuerwehr Stuttgart%2C Abt. Wangen":MAILTO:uwe.dalferth@musikzug.net
END:VEVENT
END:VCALENDAR